BEGIN:VCALENDAR
VERSION:2.0
PRODID:-//The NY Network - ECPv6.15.3//NONSGML v1.0//EN
CALSCALE:GREGORIAN
METHOD:PUBLISH
X-ORIGINAL-URL:https://thenynetwork.com
X-WR-CALDESC:Events for The NY Network
REFRESH-INTERVAL;VALUE=DURATION:PT1H
X-Robots-Tag:noindex
X-PUBLISHED-TTL:PT1H
BEGIN:VTIMEZONE
TZID:UTC
BEGIN:STANDARD
TZOFFSETFROM:+0000
TZOFFSETTO:+0000
TZNAME:UTC
DTSTART:20260101T000000
END:STANDARD
END:VTIMEZONE
BEGIN:VEVENT
DTSTART;TZID=UTC:20260422T080000
DTEND;TZID=UTC:20260422T093000
DTSTAMP:20260425T135949
CREATED:20260303T172003Z
LAST-MODIFIED:20260303T172003Z
UID:26944-1776844800-1776850200@thenynetwork.com
SUMMARY:Visitors Day
DESCRIPTION:Are you ready to take your business to the next level?\nWe invite you to our Visitors Day\, a special event hosted by our all-women business networking group designed to inspire\, connect\, and empower women like you!
URL:https://thenynetwork.com/event/visitors-day-2/
ATTACH;FMTTYPE=image/png:https://thenynetwork.com/wp-content/uploads/2026/03/april-22-visitors-day.png
END:VEVENT
END:VCALENDAR