BEGIN:VCALENDAR
VERSION:2.0
PRODID:-//The NY Network - ECPv6.15.3//NONSGML v1.0//EN
CALSCALE:GREGORIAN
METHOD:PUBLISH
X-WR-CALNAME:The NY Network
X-ORIGINAL-URL:https://thenynetwork.com
X-WR-CALDESC:Events for The NY Network
REFRESH-INTERVAL;VALUE=DURATION:PT1H
X-Robots-Tag:noindex
X-PUBLISHED-TTL:PT1H
BEGIN:VTIMEZONE
TZID:UTC
BEGIN:STANDARD
TZOFFSETFROM:+0000
TZOFFSETTO:+0000
TZNAME:UTC
DTSTART:20240101T000000
END:STANDARD
END:VTIMEZONE
BEGIN:VEVENT
DTSTART;TZID=UTC:20241106T080000
DTEND;TZID=UTC:20241106T093000
DTSTAMP:20260425T164611
CREATED:20240926T163539Z
LAST-MODIFIED:20240926T172225Z
UID:26560-1730880000-1730885400@thenynetwork.com
SUMMARY:Visitors Day
DESCRIPTION:
URL:https://thenynetwork.com/event/visitors-day/
CATEGORIES:Event
ATTACH;FMTTYPE=image/png:https://thenynetwork.com/wp-content/uploads/2024/09/nov6-visitors-day.png
ORGANIZER;CN="Kimberly Breiland":MAILTO:Kimberly@theNYnetwork.com
END:VEVENT
BEGIN:VEVENT
DTSTART;VALUE=DATE:20240821
DTEND;VALUE=DATE:20240822
DTSTAMP:20260425T164611
CREATED:20240831T180144Z
LAST-MODIFIED:20250821T160148Z
UID:26402-1724198400-1724284799@thenynetwork.com
SUMMARY:BBQ Time!
DESCRIPTION:
URL:https://thenynetwork.com/event/bbq-time/
CATEGORIES:Event
ATTACH;FMTTYPE=image/png:https://thenynetwork.com/wp-content/uploads/2024/08/aug21-bbq-time.png
ORGANIZER;CN="Ann E Vellis":MAILTO:AVellis@Axis-Benefits.com
END:VEVENT
BEGIN:VEVENT
DTSTART;TZID=UTC:20240731T120000
DTEND;TZID=UTC:20240731T170000
DTSTAMP:20260425T164611
CREATED:20240831T181237Z
LAST-MODIFIED:20240906T183447Z
UID:26409-1722427200-1722445200@thenynetwork.com
SUMMARY:Pool Party
DESCRIPTION:
URL:https://thenynetwork.com/event/pool-party/
LOCATION:Home of Christine\, Erica\, and Garrett Abbott-Devaus\, 28 Schuyler Avenue Pequannock\, Pequannock\, NJ\, 07440\, United States
CATEGORIES:Event
ATTACH;FMTTYPE=image/png:https://thenynetwork.com/wp-content/uploads/2024/08/jul31-pool-party.png
ORGANIZER;CN="Christine Abbott":MAILTO:Christine.Abbott@UBS.com
END:VEVENT
BEGIN:VEVENT
DTSTART;TZID=UTC:20240515T180000
DTEND;TZID=UTC:20240515T210000
DTSTAMP:20260425T164611
CREATED:20240811T193545Z
LAST-MODIFIED:20240906T183454Z
UID:26343-1715796000-1715806800@thenynetwork.com
SUMMARY:Players Club Networking Event
DESCRIPTION:
URL:https://thenynetwork.com/event/players-club-networking-event/
LOCATION:Player’s Club\, 16 Grammercy Park S\, New York\, NY\, 10003\, United States
CATEGORIES:Event
ATTACH;FMTTYPE=image/png:https://thenynetwork.com/wp-content/uploads/2024/04/may15-players-club.png
ORGANIZER;CN="Kimberly Breiland":MAILTO:Kimberly@theNYnetwork.com
END:VEVENT
END:VCALENDAR